BEGIN:VCALENDAR
PRODID:-//Mozilla.org/NONSGML Mozilla Calendar V1.1//EN
VERSION:2.0
BEGIN:VEVENT
CREATED:20251210T121704Z
LAST-MODIFIED:20260218T104515Z
DTSTAMP:20260420T033621Z
UID:95506DC0-D942-05CE-4FF0F5764B28E3F0
SUMMARY:Saisoneröffnung
DTSTART;TZID=Europe/Berlin:20260425T140000
DTEND;TZID=Europe/Berlin:20260425T140000
X-MOZ-GENERATION:4
LOCATION:Tennisplatz
ORGANIZER:Tennisclub TC 89 Fischbachtal e.V.
END:VEVENT
END:VCALENDAR


	