BEGIN:VCALENDAR
PRODID:-//Mozilla.org/NONSGML Mozilla Calendar V1.1//EN
VERSION:2.0
BEGIN:VEVENT
CREATED:20251210T121704Z
LAST-MODIFIED:20251210T121704Z
DTSTAMP:20260420T033637Z
UID:9552EA2B-DDDE-5456-A321BC8C06920422
SUMMARY:Gemeindevertretersitzung
DTSTART;TZID=Europe/Berlin:20260428T200000
DTEND;TZID=Europe/Berlin:20260428T200000
X-MOZ-GENERATION:4
LOCATION:Bürgerhaus Billings
ORGANIZER:Gemeinde Fischbachtal
END:VEVENT
END:VCALENDAR


	