BEGIN:VCALENDAR
PRODID:-//Mozilla.org/NONSGML Mozilla Calendar V1.1//EN
VERSION:2.0
BEGIN:VEVENT
CREATED:20251210T121704Z
LAST-MODIFIED:20260218T094605Z
DTSTAMP:20260420T033622Z
UID:955094F4-DD43-3F95-6F8625870500BA95
SUMMARY:Grillfest
DTSTART;TZID=Europe/Berlin:20260430T000000
DTEND;TZID=Europe/Berlin:20260501T000000
X-MOZ-GENERATION:4
LOCATION:Feuerwehrhaus Billings
ORGANIZER:Feuerwehrverein Billings
END:VEVENT
END:VCALENDAR


	