BEGIN:VCALENDAR
PRODID:-//Mozilla.org/NONSGML Mozilla Calendar V1.1//EN
VERSION:2.0
BEGIN:VEVENT
CREATED:20251210T121704Z
LAST-MODIFIED:20251210T121704Z
DTSTAMP:20260420T033637Z
UID:9552D68C-C712-673E-F8F35C4083428EF1
SUMMARY:Seniorentreff Fischbachtaler Netz
DTSTART;TZID=Europe/Berlin:20260506T150000
DTEND;TZID=Europe/Berlin:20260506T170000
X-MOZ-GENERATION:4
LOCATION:Ev. Gemeindehaus Niedernhausen
ORGANIZER:Evangelisch-Lutherische Kirchengemeinde Niedernhausen im Fischbachtal
END:VEVENT
END:VCALENDAR


	