BEGIN:VCALENDAR
PRODID:-//Mozilla.org/NONSGML Mozilla Calendar V1.1//EN
VERSION:2.0
BEGIN:VEVENT
CREATED:20251210T121704Z
LAST-MODIFIED:20260218T104158Z
DTSTAMP:20260420T033622Z
UID:9550A895-A46A-9AFA-1DD38AFED7203ABA
SUMMARY:Kräuterwanderung
DTSTART;TZID=Europe/Berlin:20260509T140000
DTEND;TZID=Europe/Berlin:20260509T170000
X-MOZ-GENERATION:4
LOCATION:
ORGANIZER:Geopark-vor-Ort-Begleiter Fischbachtal
END:VEVENT
END:VCALENDAR


	