BEGIN:VCALENDAR
PRODID:-//Mozilla.org/NONSGML Mozilla Calendar V1.1//EN
VERSION:2.0
BEGIN:VEVENT
CREATED:20251210T121704Z
LAST-MODIFIED:20260218T104300Z
DTSTAMP:20260420T061321Z
UID:9AEDDAA5-F7E0-3610-75CD926374B87FB5
SUMMARY:Geologische Wanderung
DTSTART;TZID=Europe/Berlin:20260531T140000
DTEND;TZID=Europe/Berlin:20260531T140000
X-MOZ-GENERATION:4
LOCATION:Parkplatz Ruhehain am Grillplatz am Nonroder Hang Niedernhausen
ORGANIZER:Geopark-vor-Ort-Begleiter Fischbachtal
END:VEVENT
END:VCALENDAR


	