BEGIN:VCALENDAR
PRODID:-//Mozilla.org/NONSGML Mozilla Calendar V1.1//EN
VERSION:2.0
BEGIN:VEVENT
CREATED:20251210T121704Z
LAST-MODIFIED:20251210T121704Z
DTSTAMP:20260420T050132Z
UID:985C6143-F9D9-8ABE-633C308FC59538FB
SUMMARY:Gemeindevertretersitzung
DTSTART;TZID=Europe/Berlin:20260616T200000
DTEND;TZID=Europe/Berlin:20260616T200000
X-MOZ-GENERATION:4
LOCATION:Bürgerhaus Billings
ORGANIZER:Gemeinde Fischbachtal
END:VEVENT
END:VCALENDAR


	