BEGIN:VCALENDAR
PRODID:-//Mozilla.org/NONSGML Mozilla Calendar V1.1//EN
VERSION:2.0
BEGIN:VEVENT
CREATED:20251210T121704Z
LAST-MODIFIED:20251210T121704Z
DTSTAMP:20260420T061326Z
UID:9AEEA74B-0060-C785-4EF002E0952BB6D2
SUMMARY:Ausschüsse
DTSTART;TZID=Europe/Berlin:20261020T200000
DTEND;TZID=Europe/Berlin:20261020T200000
X-MOZ-GENERATION:4
LOCATION:Bürgerhaus Billings
ORGANIZER:Gemeinde Fischbachtal
END:VEVENT
END:VCALENDAR


	