BEGIN:VCALENDAR
PRODID:-//Mozilla.org/NONSGML Mozilla Calendar V1.1//EN
VERSION:2.0
BEGIN:VEVENT
CREATED:20251210T121704Z
LAST-MODIFIED:20251210T121704Z
DTSTAMP:20260420T060928Z
UID:9ACA5E62-CF8F-26A3-8AF59B863502A999
SUMMARY:Ausschüsse
DTSTART;TZID=Europe/Berlin:20261201T200000
DTEND;TZID=Europe/Berlin:20261201T200000
X-MOZ-GENERATION:4
LOCATION:Bürgerhaus Billings
ORGANIZER:Gemeinde Fischbachtal
END:VEVENT
END:VCALENDAR


	