BEGIN:VCALENDAR
PRODID:-//Mozilla.org/NONSGML Mozilla Calendar V1.1//EN
VERSION:2.0
BEGIN:VEVENT
CREATED:20251210T121704Z
LAST-MODIFIED:20251210T121704Z
DTSTAMP:20260420T061117Z
UID:9ADAEC8B-A786-7F9D-BF0267B0954F2F92
SUMMARY:Gemeindevertretersitzung
DTSTART;TZID=Europe/Berlin:20261208T190000
DTEND;TZID=Europe/Berlin:20261208T190000
X-MOZ-GENERATION:4
LOCATION:Bürgerhaus Billings
ORGANIZER:Gemeinde Fischbachtal
END:VEVENT
END:VCALENDAR


	