BEGIN:VCALENDAR
PRODID:-//Mozilla.org/NONSGML Mozilla Calendar V1.1//EN
VERSION:2.0
BEGIN:VEVENT
CREATED:20260413T135657Z
LAST-MODIFIED:20260413T141755Z
DTSTAMP:20260420T033621Z
UID:95508168-C777-87AC-93E4B7677766814A
SUMMARY:Café Einklang: Saisoneröffnung
DTSTART;TZID=Europe/Berlin:20260501T110000
DTEND;TZID=Europe/Berlin:20260501T110000
X-MOZ-GENERATION:4
LOCATION:Café Einklang
ORGANIZER:Café Einklang
END:VEVENT
END:VCALENDAR


	